BEGIN:VCALENDAR
VERSION:2.0
PRODID:-//Jay-Ho! Tickets - ECPv6.15.20//NONSGML v1.0//EN
CALSCALE:GREGORIAN
METHOD:PUBLISH
X-ORIGINAL-URL:https://events.jay-ho.com
X-WR-CALDESC:Events for Jay-Ho! Tickets
REFRESH-INTERVAL;VALUE=DURATION:PT1H
X-Robots-Tag:noindex
X-PUBLISHED-TTL:PT1H
BEGIN:VTIMEZONE
TZID:UTC
BEGIN:STANDARD
TZOFFSETFROM:+0000
TZOFFSETTO:+0000
TZNAME:UTC
DTSTART:20230101T000000
END:STANDARD
END:VTIMEZONE
BEGIN:VEVENT
DTSTART;TZID=UTC:20241013T140000
DTEND;TZID=UTC:20241013T170000
DTSTAMP:20260424T164234
CREATED:20241006T125347Z
LAST-MODIFIED:20241006T141453Z
UID:251939-1728828000-1728838800@events.jay-ho.com
SUMMARY:Celebrate Diwali with Kailash Kher in Rhode Island
DESCRIPTION:The Foundation of Indian-Americans (FIA) New England shared its exciting plans exclusively with Jay-Ho!\, announcing a grand Diwali celebration on Sunday\, October 13th\, in Providence\, Rhode Island. This year\, the event will shine even brighter with the presence of world-renowned singer and composer\, Padmashri Kailash Kher\, alongside his dynamic ensemble. Known for his soulful voice and deeply emotional music\, Kher is set to captivate the audience with an extraordinary performance. The event promises to be an unforgettable highlight of the Festival of Lights\, bringing joy and celebration to the local community and beyond.
URL:https://events.jay-ho.com/event/celebrate-diwali-with-kailash-kher-in-rhode-island/
LOCATION:CT
ATTACH;FMTTYPE=image/jpeg:https://events.jay-ho.com/wp-content/uploads/2024/10/WhatsApp-Image-2024-10-01-at-15.36.12.jpeg
END:VEVENT
END:VCALENDAR