BEGIN:VCALENDAR
VERSION:2.0
PRODID:-//Jay-Ho! Tickets - ECPv6.15.20//NONSGML v1.0//EN
CALSCALE:GREGORIAN
METHOD:PUBLISH
X-WR-CALNAME:Jay-Ho! Tickets
X-ORIGINAL-URL:https://events.jay-ho.com
X-WR-CALDESC:Events for Jay-Ho! Tickets
REFRESH-INTERVAL;VALUE=DURATION:PT1H
X-Robots-Tag:noindex
X-PUBLISHED-TTL:PT1H
BEGIN:VTIMEZONE
TZID:UTC
BEGIN:STANDARD
TZOFFSETFROM:+0000
TZOFFSETTO:+0000
TZNAME:UTC
DTSTART:20250101T000000
END:STANDARD
END:VTIMEZONE
BEGIN:VEVENT
DTSTART;TZID=UTC:20260926T173000
DTEND;TZID=UTC:20260926T210000
DTSTAMP:20260423T210957
CREATED:20260331T153257Z
LAST-MODIFIED:20260401T120446Z
UID:252752-1790443800-1790456400@events.jay-ho.com
SUMMARY:Geeta Rabari Live – Garba Ramzat in Boston | Biggest Garba Night 2026
DESCRIPTION:Boston\, get ready for another unforgettable night of Garba as the queen of Gujarati folk music Geeta Rabari brings her electrifying show “Garba Ramzat” to the stage! \nJoin us on September 26\, 2026\, for one of the biggest Garba nights of the year\, where tradition meets high-energy celebration. Known for her powerful voice and captivating stage presence\, Geeta Rabari will have you dancing non-stop to your favorite Garba and Dandiya beats. \nWhether you’re a seasoned Garba lover or just looking to experience the vibrant Navratri vibes\, this event promises music\, culture\, and an atmosphere full of joy and energy. \nEvent Highlights\n\nLive performance by Geeta Rabari\nNon-stop Garba & Dandiya night\nFestive Navratri celebration\nPerfect for families\, friends & groups\n\nEvent Details\nDate: September 26\, 2026Venue: SHRINERS AUDITORIUM\n99 Fordham Road\, Wilmington\, MA 01887 \nDress in your traditional best\, bring your Garba energy\, and be part of a night full of rhythm\, culture\, and celebration. \nBook your tickets now on Jay-Ho! – Don’t miss out!
URL:https://events.jay-ho.com/event/geeta-rabari-live-garba-ramzat-in-boston-biggest-garba-night-2026/
LOCATION:SHRINERS AUDITORIUM\, 99 Fordham Road\, Wilmington\, MA\, 01887\, United States
ATTACH;FMTTYPE=image/jpeg:https://events.jay-ho.com/wp-content/uploads/2026/03/WhatsApp-Image-2026-03-31-at-18.21.16.jpeg
END:VEVENT
END:VCALENDAR