BEGIN:VCALENDAR
VERSION:2.0
PRODID:-//Jay-Ho! Tickets - ECPv6.15.20//NONSGML v1.0//EN
CALSCALE:GREGORIAN
METHOD:PUBLISH
X-WR-CALNAME:Jay-Ho! Tickets
X-ORIGINAL-URL:https://events.jay-ho.com
X-WR-CALDESC:Events for Jay-Ho! Tickets
REFRESH-INTERVAL;VALUE=DURATION:PT1H
X-Robots-Tag:noindex
X-PUBLISHED-TTL:PT1H
BEGIN:VTIMEZONE
TZID:UTC
BEGIN:STANDARD
TZOFFSETFROM:+0000
TZOFFSETTO:+0000
TZNAME:UTC
DTSTART:20250101T000000
END:STANDARD
END:VTIMEZONE
BEGIN:VEVENT
DTSTART;TZID=UTC:20261003T160000
DTEND;TZID=UTC:20261003T180000
DTSTAMP:20260423T210949
CREATED:20260307T174653Z
LAST-MODIFIED:20260313T172542Z
UID:252663-1791043200-1791050400@events.jay-ho.com
SUMMARY:Neelkanth: The Rise of Shiva
DESCRIPTION:Experience a powerful fusion of mythology\, movement\, and storytelling in Neelkanth: The Rise of Shiva\, an original Fusion Theater production by Dancilla YogaFusion. Created\, written\, and directed by Dr. Sonal Mazumder\, this visually stunning performance brings the ancient story of Shiva as Neelkanth—the one who absorbs poison to protect the universe—to life through dance\, theater\, music\, and immersive visuals. \nNeelkanth is far more than a mythological retelling. Unlike traditional portrayals seen in films or stage productions\, this work is an adaptation of a socio-political drama novel brought to the stage for the very first time. At its heart\, the story is about human character\, compassion\, and the courage to sacrifice for the greater good—a timeless message that resonates deeply with today’s world. \nSpecial Early Offers (June – July)\nTake advantage of our limited-time ticket discounts: \n15% OFF – Use coupon EARLYBIRD20% OFF on purchase of 5 tickets – Use coupon GROUPOF525% OFF on purchase of 10 tickets – Use coupon GROUPOF10 \nEvent Details\nDate: October 3\, 2026Time: 4:00 PMVenue: J. Everett Collins Center for the Performing Arts100 Shawsheen Road\, Andover\, MA 01810 \nLearn more about the event at Dancilla YogaFusion → \nGet Your Tickets Now at Jay-Ho!
URL:https://events.jay-ho.com/event/neelkanth/
LOCATION:Collins Center For Performing Arts\, 100 Shawsheen Rd\, Andover\, MA\, 1810\, United States
ATTACH;FMTTYPE=image/jpeg:https://events.jay-ho.com/wp-content/uploads/2026/03/WhatsApp-Image-2026-03-13-at-06.28.00.jpeg
END:VEVENT
END:VCALENDAR