BEGIN:VCALENDAR
VERSION:2.0
PRODID:-//Jay-Ho! Tickets - ECPv6.15.20//NONSGML v1.0//EN
CALSCALE:GREGORIAN
METHOD:PUBLISH
X-WR-CALNAME:Jay-Ho! Tickets
X-ORIGINAL-URL:https://events.jay-ho.com
X-WR-CALDESC:Events for Jay-Ho! Tickets
REFRESH-INTERVAL;VALUE=DURATION:PT1H
X-Robots-Tag:noindex
X-PUBLISHED-TTL:PT1H
BEGIN:VTIMEZONE
TZID:UTC
BEGIN:STANDARD
TZOFFSETFROM:+0000
TZOFFSETTO:+0000
TZNAME:UTC
DTSTART:20250101T000000
END:STANDARD
END:VTIMEZONE
BEGIN:VEVENT
DTSTART;TZID=UTC:20261010T190000
DTEND;TZID=UTC:20261010T220000
DTSTAMP:20260423T233320
CREATED:20260402T101408Z
LAST-MODIFIED:20260402T102427Z
UID:252778-1791658800-1791669600@events.jay-ho.com
SUMMARY:Burlington Garba Night 2026 – Live DJ & Navratri Celebration
DESCRIPTION:Celebrate the spirit of Navratri with an energetic and vibrant evening at Burlington Garba Night 2026! \nPresented by the Mahadev Group of Boston in association with Spiceland & DJ Ace\, this event promises a night full of traditional Garba\, lively music\, and festive celebration. Dance your heart out to the beats of Garba and Dandiya as DJ Ace brings the perfect mix of traditional and modern rhythms. \nWhether you’re a Garba enthusiast or just looking to enjoy a fun cultural night with friends and family\, this event offers the perfect atmosphere filled with joy\, music\, and community spirit. \nEvent Highlights\n\nTraditional Garba & Dandiya Night\nLive DJ Ace spinning festive beats\nPerfect Navratri celebration\nFamily-friendly event\n\nEvent Details\nDate: Saturday\, October 10\, 2026Time: 7:00 PMVenue: Marshall Simonds Middle School GBurlington\, MA \nTickets\nRegular Entry: $10Student Entry: $7Kids under 7: Free Entry \nDress in your traditional best\, bring your Garba energy\, and join us for a night full of music\, dance\, and celebration! \nBook your tickets now on Jay-Ho!
URL:https://events.jay-ho.com/event/burlington-garba-night-2026-live-dj-navratri-celebration/
LOCATION:Marshall Simonds Middle School GYM\, 114 Winn Street\, Burlington\, MA\, 01803\, United States
ATTACH;FMTTYPE=image/jpeg:https://events.jay-ho.com/wp-content/uploads/2026/04/WhatsApp-Image-2026-04-02-at-15.37.56.jpeg
END:VEVENT
BEGIN:VEVENT
DTSTART;TZID=UTC:20261024T190000
DTEND;TZID=UTC:20261024T220000
DTSTAMP:20260423T233320
CREATED:20260402T101335Z
LAST-MODIFIED:20260402T102742Z
UID:252781-1792868400-1792879200@events.jay-ho.com
SUMMARY:SASA Garba Night 2026 – Fundraising Navratri Celebration
DESCRIPTION:Celebrate Navratri with purpose and passion at Garba Night 2026\, a vibrant fundraising event for Burlington High School! \nPresented by Mahadev Entertainment in association with the South Asian Student Association & Spiceland\, this exciting evening brings together culture\, community\, and celebration—all for a meaningful cause. \nDance the night away to energetic beats by DJ Luxe\, as you enjoy a lively Garba and Dandiya atmosphere filled with music\, colors\, and festive spirit. Whether you’re a seasoned Garba dancer or just looking for a fun cultural night out\, this event is perfect for all ages. \nEvent Highlights\n\nTraditional Garba & Dandiya Night\nLive DJ by Luxe\nFundraising event for a great cause\nFamily-friendly & community-focused celebration\n\nEvent Details\nDate: Saturday\, October 24\, 2026Time: 7:00 PMVenue: Marshall Simonds Middle School – Gym114 Winn Street\, Burlington\, MA 01803 \nJoin us for an evening of dance\, culture\, and community support—where every step you take contributes to a meaningful cause. \nBook your tickets now on Jay-Ho! and be part of the celebration!
URL:https://events.jay-ho.com/event/sasa-garba-night-2026-fundraising-navratri-celebration/
LOCATION:Marshall Simonds Middle School GYM\, 114 Winn Street\, Burlington\, MA\, 01803\, United States
ATTACH;FMTTYPE=image/jpeg:https://events.jay-ho.com/wp-content/uploads/2026/04/WhatsApp-Image-2026-04-02-at-15.40.01.jpeg
END:VEVENT
BEGIN:VEVENT
DTSTART;TZID=UTC:20261231T220000
DTEND;TZID=UTC:20270101T010000
DTSTAMP:20260423T233320
CREATED:20260206T183239Z
LAST-MODIFIED:20260206T183239Z
UID:252619-1798754400-1798765200@events.jay-ho.com
SUMMARY:Jay-Ho! New Year Celebration
DESCRIPTION:Jay-Ho! New Year Celebration is a demo event created exclusively for users and organizers to explore and test the Jay-Ho! event platform. This sample event showcases how event details\, invites\, RSVPs\, and guest interactions appear in a real-world setup. \nDesigned for demonstration purposes only\, this event helps organizers understand the full event creation flow\, preview guest experiences\, and test platform features before hosting a live event. No actual celebration or gathering is associated with this listing.
URL:https://events.jay-ho.com/event/jay-ho-new-year-celebration/
LOCATION:Collins Center For Performing Arts\, 100 Shawsheen Rd\, Andover\, MA\, 1810\, United States
ATTACH;FMTTYPE=image/png:https://events.jay-ho.com/wp-content/uploads/2026/02/Jay-Ho-New-Year-Celebration.png
ORGANIZER;CN="Jay-Ho!":MAILTO:jayho@jay-ho.com
END:VEVENT
END:VCALENDAR