BEGIN:VCALENDAR
VERSION:2.0
PRODID:-//Jay-Ho! Tickets - ECPv6.15.20//NONSGML v1.0//EN
CALSCALE:GREGORIAN
METHOD:PUBLISH
X-WR-CALNAME:Jay-Ho! Tickets
X-ORIGINAL-URL:https://events.jay-ho.com
X-WR-CALDESC:Events for Jay-Ho! Tickets
REFRESH-INTERVAL;VALUE=DURATION:PT1H
X-Robots-Tag:noindex
X-PUBLISHED-TTL:PT1H
BEGIN:VTIMEZONE
TZID:UTC
BEGIN:STANDARD
TZOFFSETFROM:+0000
TZOFFSETTO:+0000
TZNAME:UTC
DTSTART:20220101T000000
END:STANDARD
END:VTIMEZONE
BEGIN:VEVENT
DTSTART;TZID=UTC:20230714T080000
DTEND;TZID=UTC:20230714T170000
DTSTAMP:20260424T113135
CREATED:20230615T163416Z
LAST-MODIFIED:20230710T072543Z
UID:12-1689321600-1689354000@events.jay-ho.com
SUMMARY:ELYZIUM LIVE BAND - ASHU REDDY - VENU NIGHT CLUB
DESCRIPTION:BIB brings you the ultimate electrifying Telugu Live Band ELYZIUM to BOSTON on JULY 14th. Come spend the night away with sensational beats\, mesmerizing melodies\, and a Vibrant atmosphere at Boston’s #1 Night Club – VENU. \nSpecial Guest Host ASHU REDDY in BOSTON for the First Time. \nAFTER PARTY with DJ RAKESH and DJ VIK \nAbout ELYZIUM\nDinker is a very popular playback singer in Tollywood . His recent songs include Halamathi Habibo for Anirudh Musical and won awards for very popular Ninnala Lede telugu song. Drummer Sagar in this band is very popular for his work in Ala Vaikuntapuram lo and a lead drummer for Thaman.  This Band consists of 6 artists each of them exceptional in their instruments. This band delivers outstanding performances on stage and people who attended their live shows describe them as Dynamic\, Highly Energetic and unforgettable.Their fanbase includes most of Tollywood celebrities and are always hosted by Ram Charan\, NTR\, Allu Arjun\, Thaman\, Rajamouli\, Sukumar for their private events. \nDate:\nFRIDAY \, JULY 14th \, 2023 \nVenue:\nVENU Night Club \n100 Warrenton Street\, Boston MA \nHighlights:\nBAND ELYZIUM ; ASHU REDDY ; DJ RAKESH ; DJ VIK – BOSTON’s #1 NIGHT CLUB – VENU \nFirst Ever South Indian Band in BOSTON Night Club. Don’t Miss it ! \nDoors Open – 9.00pm \nPRE-SALE TICKETS will be available for a short time only. \nContact us for the group tickets and VIP TABLES.  RAKESH : 480-371-7787 VIK: 603-921-8989 \nTickets Available at Door for higher price. \nCash/Card accepted at DOOR.
URL:https://events.jay-ho.com/event/elyzium-live-band-ashu-reddy-venu-night-club/
LOCATION:VENU NIGHT CLUB\, 100 Warrenton Street\, Boston\, MA\, 02116\, United States
ATTACH;FMTTYPE=image/png:https://events.jay-ho.com/wp-content/uploads/2023/06/51.png
END:VEVENT
END:VCALENDAR