BEGIN:VCALENDAR
VERSION:2.0
PRODID:-//Jay-Ho! Tickets - ECPv6.15.20//NONSGML v1.0//EN
CALSCALE:GREGORIAN
METHOD:PUBLISH
X-WR-CALNAME:Jay-Ho! Tickets
X-ORIGINAL-URL:https://events.jay-ho.com
X-WR-CALDESC:Events for Jay-Ho! Tickets
REFRESH-INTERVAL;VALUE=DURATION:PT1H
X-Robots-Tag:noindex
X-PUBLISHED-TTL:PT1H
BEGIN:VTIMEZONE
TZID:UTC
BEGIN:STANDARD
TZOFFSETFROM:+0000
TZOFFSETTO:+0000
TZNAME:UTC
DTSTART:20220101T000000
END:STANDARD
END:VTIMEZONE
BEGIN:VTIMEZONE
TZID:America/New_York
BEGIN:DAYLIGHT
TZOFFSETFROM:-0500
TZOFFSETTO:-0400
TZNAME:EDT
DTSTART:20220313T070000
END:DAYLIGHT
BEGIN:STANDARD
TZOFFSETFROM:-0400
TZOFFSETTO:-0500
TZNAME:EST
DTSTART:20221106T060000
END:STANDARD
BEGIN:DAYLIGHT
TZOFFSETFROM:-0500
TZOFFSETTO:-0400
TZNAME:EDT
DTSTART:20230312T070000
END:DAYLIGHT
BEGIN:STANDARD
TZOFFSETFROM:-0400
TZOFFSETTO:-0500
TZNAME:EST
DTSTART:20231105T060000
END:STANDARD
BEGIN:DAYLIGHT
TZOFFSETFROM:-0500
TZOFFSETTO:-0400
TZNAME:EDT
DTSTART:20240310T070000
END:DAYLIGHT
BEGIN:STANDARD
TZOFFSETFROM:-0400
TZOFFSETTO:-0500
TZNAME:EST
DTSTART:20241103T060000
END:STANDARD
END:VTIMEZONE
BEGIN:VTIMEZONE
TZID:America/New_York
BEGIN:DAYLIGHT
TZOFFSETFROM:-0500
TZOFFSETTO:-0400
TZNAME:EDT
DTSTART:20220313T070000
END:DAYLIGHT
BEGIN:STANDARD
TZOFFSETFROM:-0400
TZOFFSETTO:-0500
TZNAME:EST
DTSTART:20221106T060000
END:STANDARD
BEGIN:DAYLIGHT
TZOFFSETFROM:-0500
TZOFFSETTO:-0400
TZNAME:EDT
DTSTART:20230312T070000
END:DAYLIGHT
BEGIN:STANDARD
TZOFFSETFROM:-0400
TZOFFSETTO:-0500
TZNAME:EST
DTSTART:20231105T060000
END:STANDARD
BEGIN:DAYLIGHT
TZOFFSETFROM:-0500
TZOFFSETTO:-0400
TZNAME:EDT
DTSTART:20240310T070000
END:DAYLIGHT
BEGIN:STANDARD
TZOFFSETFROM:-0400
TZOFFSETTO:-0500
TZNAME:EST
DTSTART:20241103T060000
END:STANDARD
END:VTIMEZONE
BEGIN:VTIMEZONE
TZID:America/Halifax
BEGIN:DAYLIGHT
TZOFFSETFROM:-0400
TZOFFSETTO:-0300
TZNAME:ADT
DTSTART:20220313T060000
END:DAYLIGHT
BEGIN:STANDARD
TZOFFSETFROM:-0300
TZOFFSETTO:-0400
TZNAME:AST
DTSTART:20221106T050000
END:STANDARD
BEGIN:DAYLIGHT
TZOFFSETFROM:-0400
TZOFFSETTO:-0300
TZNAME:ADT
DTSTART:20230312T060000
END:DAYLIGHT
BEGIN:STANDARD
TZOFFSETFROM:-0300
TZOFFSETTO:-0400
TZNAME:AST
DTSTART:20231105T050000
END:STANDARD
BEGIN:DAYLIGHT
TZOFFSETFROM:-0400
TZOFFSETTO:-0300
TZNAME:ADT
DTSTART:20240310T060000
END:DAYLIGHT
BEGIN:STANDARD
TZOFFSETFROM:-0300
TZOFFSETTO:-0400
TZNAME:AST
DTSTART:20241103T050000
END:STANDARD
END:VTIMEZONE
BEGIN:VEVENT
DTSTART;TZID=UTC:20231020T213000
DTEND;TZID=UTC:20231020T233000
DTSTAMP:20260423T232624
CREATED:20231009T143830Z
LAST-MODIFIED:20231009T143830Z
UID:251603-1697837400-1697844600@events.jay-ho.com
SUMMARY:Iman Chakraborty - Live In Concert
DESCRIPTION:BASC presents Iman Chakraborty – live in concert. \nSelect Seat + Dinner option to have the pleasure of indulging in a delightful dinner package included with this ticket. \nIf you are a student with valid student id\, please use promo code ‘STUDENT’ to get $10 discount on any tickets. ID will be verified at the venue. \nImmerse yourself in the enchanting music while savoring a delectable meal\, adding an extra touch of luxury and enjoyment to your concert experience. Limited availability\, so make sure to secure your ticket soon and make this concert a truly memorable event.”
URL:https://events.jay-ho.com/event/iman-chakraborty-live-in-concert/
LOCATION:Monrovia High School Auditorium\, 845 West Colorado Boulevard\, Monrovia\, CA\, 91016\, United States
ATTACH;FMTTYPE=image/jpeg:https://events.jay-ho.com/wp-content/uploads/2023/10/2023-07-26-10-24-28-770_72-1-e1696862272510.jpg
END:VEVENT
BEGIN:VEVENT
DTSTART;TZID=UTC:20231020T180000
DTEND;TZID=UTC:20231020T233000
DTSTAMP:20260423T232624
CREATED:20230908T171810Z
LAST-MODIFIED:20231013T131955Z
UID:251440-1697824800-1697844600@events.jay-ho.com
SUMMARY:Amit Kumar Live in Boston
DESCRIPTION:Amit Kumar in Boston: An Unforgettable Evening of Music\nGet ready for an unforgettable evening of music and entertainment as the legendary Amit Kumar takes the stage for a captivating live show in Boston\, MA on October 20th. Known for his mesmerizing voice and charismatic stage presence\, Amit Kumar promises to deliver a performance that will leave you spellbound. \nAmit Kumar\, son of the iconic playback singer Kishore Kumar\, has carved his own niche in the industry with his versatile singing style. His dynamic range and ability to effortlessly transition between genres have garnered a massive worldwide fan base. Whether you’re a long-time admirer or new to his music\, this live show promises to be a treat for all music enthusiasts. \nJoin us as we celebrate the legacy of Amit Kumar\, who has continued to captivate hearts with his soulful renditions. This event is a rare opportunity to witness a living legend in action. Amit Kumar’s melodious tunes\, backed by a talented ensemble of musicians\, will create an atmosphere of pure musical magic. \nThe show is set to take place at a prestigious venue in the heart of Boston\, providing a perfect backdrop for an evening of musical excellence. Don’t miss out on this chance to experience the magic of Amit Kumar’s live performance. Mark your calendars for October 20th\, and secure your tickets early to ensure you’re part of this unforgettable musical journey. Amit Kumar in Boston promises to be an extraordinary night that will leave you with cherished memories of a musical genius. Book Your Tickets Now!
URL:https://events.jay-ho.com/event/amit-kumar-live-in-boston/
LOCATION:Hudson High School\, 69 Brigham St\, Hudson\, 01749\, United States
ATTACH;FMTTYPE=image/jpeg:https://events.jay-ho.com/wp-content/uploads/2023/09/WhatsApp-Image-2023-10-13-at-6.11.50-PM.jpeg
END:VEVENT
BEGIN:VEVENT
DTSTART;TZID=America/New_York:20231007T190000
DTEND;TZID=America/New_York:20231007T230000
DTSTAMP:20260423T232624
CREATED:20230616T154949Z
LAST-MODIFIED:20231008T115003Z
UID:250668-1696705200-1696719600@events.jay-ho.com
SUMMARY:Shaan Musical Concert Boston
DESCRIPTION:On this World Music Day\, we have an electrifying surprise for the Bostonians. Jay-Ho! The Jay Kumar Show is excited to announce that the incredibly talented\, soulful\, and oh-so-funky singer\, Shaan\, is coming to your city\, Boston. So\, brace yourselves for a mind-blowing musical extravaganza organized by Mead Mass Media on October 7\, 2023. \nAs the host of this melodious event\, Jay-Ho! The Jay Kumar Show promises an unforgettable evening filled with infectious beats and enchanting tunes. \nHit Romantic Numbers \nShaan\, the musical maestro known for his irresistible romantic numbers like ‘Chand Sifarish\,’ ‘Behti Hawa Sa Tha Woh\,’ ‘Jab Se Tere Naina\,’ ‘Kuch Toh Hua Hai\,’ ‘My Dil Goes mmm\,’ and countless other chart-topping hits\, is all set to unleash his electrifying talent upon the Boston crowd. \nHis illustrious career is studded with remarkable collaborations\, including international sensations like Blue\, Mel C\, and Samira Said. But there’s one song that has stood the test of time and continues to make hearts skip a beat – the legendary ‘Tanha Dil.’ \nThis upcoming concert promises to be an extraordinary experience\, where Shaan’s hit songs will reverberate through the air\, captivating hearts and creating memories that will last a lifetime.
URL:https://events.jay-ho.com/event/shaan-musical-concert-boston/
LOCATION:Collins Center For Performing Arts\, 100 Shawsheen Rd\, Andover\, MA\, 1810\, United States
ATTACH;FMTTYPE=image/jpeg:https://events.jay-ho.com/wp-content/uploads/2023/06/WhatsApp-Image-2023-09-18-at-9.11.27-PM.jpeg
ORGANIZER;CN="Jay-Ho!":MAILTO:jayho@jay-ho.com
END:VEVENT
BEGIN:VEVENT
DTSTART;TZID=UTC:20230924T160000
DTEND;TZID=UTC:20230924T170000
DTSTAMP:20260423T232624
CREATED:20230615T165717Z
LAST-MODIFIED:20230710T072233Z
UID:31-1695571200-1695574800@events.jay-ho.com
SUMMARY:Surmayee Shaam Benefit Concert for AFEC
DESCRIPTION:A benefit concert for AFEC – A Future for Every Child\, by Sudha Subbaraman\, with Karthik Jayaram on vocals and Boston Aalaap band on live music\, Hirak Modi on harmonium\, and Yogesh Karale on Tabla.\nJoin us for a music concert “Surmayee Shaam | Inspirations to Legacies” to benefit A Future for Every Child (AFEC). We will present a bouquet of some timeless and refreshing songs in a few Indian languages while keeping you musically engaged with some surprise elements.\nAFEC helps disadvantaged youth in India who are forced to exit orphanages or care homes upon turning 18 with no support for the future.\nAFEC’s Launchpad for Adulthood program helps them transition to independence and economic stability by providing them full support for tuition and board for vocational training or higher education\, life skills training\, assistance with job placement\, and mentoring for 2 years.
URL:https://events.jay-ho.com/event/surmayee-shaam-benefit-concert-for-afec/
LOCATION:Sanctuary\, 82 Main Street\, Maynard\, MA\, 01754\, United States
ATTACH;FMTTYPE=image/png:https://events.jay-ho.com/wp-content/uploads/2023/06/9.png
END:VEVENT
BEGIN:VEVENT
DTSTART;TZID=America/New_York:20230922T183000
DTEND;TZID=America/New_York:20230922T233000
DTSTAMP:20260423T232624
CREATED:20230817T134943Z
LAST-MODIFIED:20230823T063701Z
UID:251429-1695407400-1695425400@events.jay-ho.com
SUMMARY:6th India International Film Festival of Boston
DESCRIPTION:Mark your calendars for the IIFFB event\, which will take place over a festival weekend on September 22nd\, 23rd\, and 24th\, 2023\, in the renowned city of Boston. The festival promises a lineup of new Indian and International feature-length films\, high-quality short films\, and engaging discussions with industry special guests.
URL:https://events.jay-ho.com/event/6th-india-international-film-festival-of-boston/
LOCATION:Academy of Creative Arts\, 12 A Street\, Burlington\, MA\, 01803\, United States
ATTACH;FMTTYPE=image/jpeg:https://events.jay-ho.com/wp-content/uploads/2023/08/WhatsApp-Image-2023-08-17-at-7.09.57-PM.jpeg
END:VEVENT
BEGIN:VEVENT
DTSTART;TZID=UTC:20230822T180000
DTEND;TZID=UTC:20230826T210000
DTSTAMP:20260423T232624
CREATED:20230615T165212Z
LAST-MODIFIED:20230710T070050Z
UID:28-1692727200-1693083600@events.jay-ho.com
SUMMARY:JUST ACT - Acting Workshop by Mukesh Chhabra
DESCRIPTION:Bollywood’s leading Casting Director Mukesh Chhabra brings you an exclusive 5-day acting workshop that promises to unlock your hidden talents and open doors to the glitz and glamour of the entertainment industry. With a stellar track record of casting for blockbuster movies\, web series\, and commercials\, Chhabra’s expertise and passion for nurturing new talent make this workshop an unmissable opportunity. \nTo secure your seat for this once-in-a-lifetime workshop\, book your tickets now. The booking process is simple and hassle-free\, ensuring that you don’t miss out on this incredible opportunity to learn from one of the industry’s most esteemed casting directors. Spaces are limited\, so act swiftly and reserve your spot today. \nThe workshop\, scheduled from August 22nd to August 26th\, 2023\, offers aspiring actors a unique platform to learn and grow under the guidance of Mukesh Chhabra. With 15 years of industry experience\, Chhabra has cast for over 300 movies\, 100+ web series\, and numerous TV commercials. His remarkable discoveries include renowned faces like Rajkummar Rao\, Sushant Singh Rajput\, Mrunal Thakur\, Pratik Gandhi\, Sanya Malhotra\, and Fatima Sana Shaikh\, among others. \nFrom honing audition skills to understanding industry insights\, this workshop is designed to equip aspiring actors with the knowledge and tools needed to succeed. \nMukesh Chhabra’s casting expertise has earned him the trust and collaboration of some of the biggest names in the industry. Directors like Rajkumar Hirani\, Imtiaz Ali\, Kabir Khan\, Anurag Kashyap\, and producers such as Karan Johar and Sajid Nadiadwala rely on Chhabra’s keen eye for talent. By participating in this workshop\, you not only gain valuable acting skills but also the opportunity to catch the attention of industry professionals who frequent Chhabra’s casting sessions. \n 
URL:https://events.jay-ho.com/event/just-act-acting-workshop-by-mukesh-chhabra/
LOCATION:Academy of Creative Arts\, 12 A Street\, Burlington\, MA\, 01803\, United States
ATTACH;FMTTYPE=image/jpeg:https://events.jay-ho.com/wp-content/uploads/2023/06/WhatsApp-Image-2023-07-05-at-6.06.47-PM.jpeg
ORGANIZER;CN="Jay-Ho!":MAILTO:jayho@jay-ho.com
END:VEVENT
BEGIN:VEVENT
DTSTART;TZID=America/New_York:20230819T200000
DTEND;TZID=America/New_York:20230819T200000
DTSTAMP:20260423T232624
CREATED:20230802T085236Z
LAST-MODIFIED:20230802T090912Z
UID:251386-1692475200-1692475200@events.jay-ho.com
SUMMARY:Sonu Nigam Live Concert In Chicago 2023
DESCRIPTION:
URL:https://events.jay-ho.com/event/sonu-nigam-live-concert-in-chicago-2023/
LOCATION:NOW Arena\, 5333 Prairie Stone Pkwy\, Hoffman Estates\, IL\, 60192\, United States
ATTACH;FMTTYPE=image/jpeg:https://events.jay-ho.com/wp-content/uploads/2023/08/2023-06-27-03-56-29-741_77-1-e1690966344288.jpg
END:VEVENT
BEGIN:VEVENT
DTSTART;TZID=America/New_York:20230722T200000
DTEND;TZID=America/New_York:20230722T233000
DTSTAMP:20260423T232624
CREATED:20230630T115744Z
LAST-MODIFIED:20230710T072435Z
UID:250872-1690056000-1690068600@events.jay-ho.com
SUMMARY:BOLLY BEATS at Bijou Boston
DESCRIPTION:Prepare yourself for an unforgettable fusion of vibrant Afro-Indian beats and electrifying house music as we present the much-awaited IndoHouse’23 in the heart of Boston! \nGet ready to experience a thrilling lineup of talented DJs who will spin an eclectic mix of Bollywood hits and high-energy house tracks that will keep your spirits soaring. Whether you’re a lover of Desi beats or a fan of infectious house rhythms\, this event promises to deliver a unique auditory experience that will ignite your senses and keep you grooving. \nThe venue will be transformed into a mesmerizing space with vibrant decorations\, stunning lighting effects\, and immersive visuals that reflect the colorful and rich heritage of South Asia. Step into a world where East meets West and lose yourself in the pulsating energy of the dance floor. \nDress to impress and embrace the vibrant IndoHouse theme by donning your most stylish fusion outfits. Feel free to blend traditional attire with contemporary fashion\, allowing your creativity to shine. Capture the memories of this extraordinary night at our photo booth\, where you can strike a pose with your friends and commemorate the unforgettable moments. \nDon’t miss out on this extraordinary celebration of music\, culture\, and unity! Secure your tickets early to guarantee your spot at IndoHouse’23. Join us as we create a night that will leave you breathless\, dancing to the rhythm of a harmonious blend of beats that transcend borders. \nGet ready to experience the magic of IndoHouse and make memories that will last a lifetime. See you on the dance floor! \nNO REFUNDS. ALL SALES FINAL.
URL:https://events.jay-ho.com/event/bolly-beats-at-bijou-boston/
LOCATION:Bijou Nightclub\, 51 Stuart St\, Boston\, MA\, 2116\, United States
ATTACH;FMTTYPE=image/png:https://events.jay-ho.com/wp-content/uploads/2023/06/7.png
ORGANIZER;CN="Jay-Ho!":MAILTO:jayho@jay-ho.com
END:VEVENT
BEGIN:VEVENT
DTSTART;TZID=America/Halifax:20230715T220000
DTEND;TZID=America/Halifax:20230715T233000
DTSTAMP:20260423T232624
CREATED:20230708T130705Z
LAST-MODIFIED:20230710T072506Z
UID:251246-1689458400-1689463800@events.jay-ho.com
SUMMARY:White & Gold Bollywood Party
DESCRIPTION:DRESS CODE : WHITE OR GOLD OR BOTH \nHighlights: \nFood I Drinks I – Available For PURCHASE \nDoors Open \n10:00 pm \nStrictly A 21+ Event ONLY \nPRE-SALE TICKETS will be available for a short time only. \nContact us for the group tickets and VIP TABLES.  Shwetha : 917-543-1768 Pratt : 731-324-0037 \nTickets Available at Door for higher price. \nCash/Venmo accepted at DOOR. \nVALID FORM OF ID : \nState issued ID / Driver License or Passport. NO other forms of identification will be accepted! Photocopies or pictures of your IDs on your phone will NOT be accepted. \nSpace is limited\, FIRST COME FIRST SERVE (NO REFUNDS) so buy your tickets soon \nNOTE: \nThis is a public event which will be recorded. You may appear in pictures/video recordings. We have full rights to use this media anywhere without seeking your prior or post permissions.
URL:https://events.jay-ho.com/event/white-gold-bollywood-party/
LOCATION:Firefly\, 3070 Windward Plaza\, Alpharetta\, GA\, 30005\, United States
ATTACH;FMTTYPE=image/png:https://events.jay-ho.com/wp-content/uploads/2023/07/6.png
END:VEVENT
BEGIN:VEVENT
DTSTART;TZID=UTC:20230714T080000
DTEND;TZID=UTC:20230714T170000
DTSTAMP:20260423T232624
CREATED:20230615T163416Z
LAST-MODIFIED:20230710T072543Z
UID:12-1689321600-1689354000@events.jay-ho.com
SUMMARY:ELYZIUM LIVE BAND - ASHU REDDY - VENU NIGHT CLUB
DESCRIPTION:BIB brings you the ultimate electrifying Telugu Live Band ELYZIUM to BOSTON on JULY 14th. Come spend the night away with sensational beats\, mesmerizing melodies\, and a Vibrant atmosphere at Boston’s #1 Night Club – VENU. \nSpecial Guest Host ASHU REDDY in BOSTON for the First Time. \nAFTER PARTY with DJ RAKESH and DJ VIK \nAbout ELYZIUM\nDinker is a very popular playback singer in Tollywood . His recent songs include Halamathi Habibo for Anirudh Musical and won awards for very popular Ninnala Lede telugu song. Drummer Sagar in this band is very popular for his work in Ala Vaikuntapuram lo and a lead drummer for Thaman.  This Band consists of 6 artists each of them exceptional in their instruments. This band delivers outstanding performances on stage and people who attended their live shows describe them as Dynamic\, Highly Energetic and unforgettable.Their fanbase includes most of Tollywood celebrities and are always hosted by Ram Charan\, NTR\, Allu Arjun\, Thaman\, Rajamouli\, Sukumar for their private events. \nDate:\nFRIDAY \, JULY 14th \, 2023 \nVenue:\nVENU Night Club \n100 Warrenton Street\, Boston MA \nHighlights:\nBAND ELYZIUM ; ASHU REDDY ; DJ RAKESH ; DJ VIK – BOSTON’s #1 NIGHT CLUB – VENU \nFirst Ever South Indian Band in BOSTON Night Club. Don’t Miss it ! \nDoors Open – 9.00pm \nPRE-SALE TICKETS will be available for a short time only. \nContact us for the group tickets and VIP TABLES.  RAKESH : 480-371-7787 VIK: 603-921-8989 \nTickets Available at Door for higher price. \nCash/Card accepted at DOOR.
URL:https://events.jay-ho.com/event/elyzium-live-band-ashu-reddy-venu-night-club/
LOCATION:VENU NIGHT CLUB\, 100 Warrenton Street\, Boston\, MA\, 02116\, United States
ATTACH;FMTTYPE=image/png:https://events.jay-ho.com/wp-content/uploads/2023/06/51.png
END:VEVENT
END:VCALENDAR