BEGIN:VCALENDAR
VERSION:2.0
PRODID:-//Jay-Ho! Tickets - ECPv6.15.20//NONSGML v1.0//EN
CALSCALE:GREGORIAN
METHOD:PUBLISH
X-ORIGINAL-URL:https://events.jay-ho.com
X-WR-CALDESC:Events for Jay-Ho! Tickets
REFRESH-INTERVAL;VALUE=DURATION:PT1H
X-Robots-Tag:noindex
X-PUBLISHED-TTL:PT1H
BEGIN:VTIMEZONE
TZID:UTC
BEGIN:STANDARD
TZOFFSETFROM:+0000
TZOFFSETTO:+0000
TZNAME:UTC
DTSTART:20250101T000000
END:STANDARD
END:VTIMEZONE
BEGIN:VEVENT
DTSTART;TZID=UTC:20260619T170000
DTEND;TZID=UTC:20260619T210000
DTSTAMP:20260423T175240
CREATED:20260331T120253Z
LAST-MODIFIED:20260401T120524Z
UID:252742-1781888400-1781902800@events.jay-ho.com
SUMMARY:Stand-Up Comedy by Vikas Kush Sharma - Boston 2026
DESCRIPTION:Get ready\, Boston! Brace yourself for an evening full of laughter\, wit\, and relatable humor as Vikas Kush Sharma brings his hit stand-up comedy show “Halki Halki Fati?” live on stage. \nKnown for his sharp observations\, effortless delivery\, and hilarious storytelling\, Vikas Kush Sharma promises a comedy experience that will leave you laughing non-stop. From everyday life situations to desi humor with a global twist\, this show is packed with moments you’ll instantly connect with. \nWhether you’re coming with friends\, your partner\, or flying solo—this is your perfect night out filled with laughter and entertainment. \nEvent Details\nDate: June 19\, 2026Venue: Regent Theatre\, 7 Medford Street\, Arlington\, MA 02474 \nDon’t miss this chance to experience one of the most entertaining stand-up acts live in Boston. \nGrab your tickets soon and get ready to laugh out loud!
URL:https://events.jay-ho.com/event/stand-up-comedy-by-vikas-kush-sharma-boston-2026/
LOCATION:Regent Theatre\, 7 Medford St\, Arlington\, MA\, 02474\, United States
ATTACH;FMTTYPE=image/jpeg:https://events.jay-ho.com/wp-content/uploads/2026/03/WhatsApp-Image-2026-03-31-at-18.00.40-1.jpeg
END:VEVENT
BEGIN:VEVENT
DTSTART;TZID=UTC:20260620T190000
DTEND;TZID=UTC:20260620T220000
DTSTAMP:20260423T175240
CREATED:20260326T104116Z
LAST-MODIFIED:20260404T081418Z
UID:252720-1781982000-1781992800@events.jay-ho.com
SUMMARY:Javed Ali Live in Concert – Boston 2026
DESCRIPTION:Boston\, get ready for an unforgettable night of music as the legendary playback singer Javed Ali takes the stage live! \nMark your calendars for Saturday\, June 20\, 2026\, and experience a mesmerizing evening filled with soulful melodies\, powerful Sufi vocals\, and timeless Bollywood hits. Known for his magical voice and iconic collaborations with A.R. Rahman\, Javed Ali has captured millions of hearts worldwide—and now he’s coming to Boston for a spectacular live performance. \nSing along to your favorite chart-toppers\, including:🎶 Kun Faya Kun (Rockstar)🎶 Jashn-E-Bahaara (Jodhaa Akbar)🎶 Arziyan (Delhi-6)🎶 Tu Hi Haqeeqat🎶 Guzarish…and many more! \nFeel the energy\, emotion\, and magic of live music as Javed Ali delivers a performance that blends romance\, spirituality\, and pure Bollywood vibes. \nEvent Details\nDate: Saturday\, June 20\, 2026Venue: Lynn Memorial Auditorium3 City Hall Square\, Lynn\, MA \nDon’t miss this incredible opportunity to witness one of Bollywood’s most beloved voices live on stage.Secure your tickets early and be part of a night to remember!
URL:https://events.jay-ho.com/event/javed-ali-live-in-concert-boston-2026/
LOCATION:Lynn Memorial Auditorium\, 3 City Hall Square\, Lynn\, MA\, 01901\, United States
ATTACH;FMTTYPE=image/jpeg:https://events.jay-ho.com/wp-content/uploads/2026/03/WhatsApp-Image-2026-03-26-at-21.28.56-1.jpeg
END:VEVENT
END:VCALENDAR